Workbook
Name _: 'Roll-up'!$B$4
Name _: 'A-19 PPTs Reimb'!#REF!
Name ContractNumber: 'A-19 PPTs Reimb'!$B$10
Name ContractNumber: 'Roll-up'!#REF!
Name Report_Month_Year: 'Roll-up'!$B$4
Name Report_Month_Year: 'A-19 PPTs Reimb'!#REF!

Sheet Instructions dnu
A1: Billing Due Dates
A2: Click Plus Sign to see instructions
A4: Service month | C4: Due date
A5: 45839 | C5: 45889
A6: 45870 | C6: 45919
A7: 45901 | C7: 45950
A8: 45931 | C8: 45981
A9: 45962 | C9: 46010
A10: 45992 | C10: 46042
A11: 46023 | C11: 46073
A12: 46054 | C12: 46101
A13: 46082 | C13: 46132
A14: 46113 | C14: 46162
A15: 46143 | C15: 46191
A16: 46174 | C16: 46213
A17: FY26
A18: Service month | C18: Due date
A19: 45839 | C19: 45889
A20: 45870 | C20: 45919
A21: 45901 | C21: 45950
A22: 45931 | C22: 45981
A23: 45962 | C23: 46010
A24: 45992 | C24: 46042
A25: 46023 | C25: 46073
A26: 46054 | C26: 46101
A27: 46082 | C27: 46132
A28: 46113 | C28: 46162
A29: 46143 | C29: 46191
A30: 46174 | C30: 46213
A33: Projections
A34: Click Plus Sign to see instructions
A80: Main CJ-CJump PPT Tracker, Main WC PPT Tracker, and LEP CJ-CJump PPT Tracker
A111: Common Reasons on why you will need to add to the billing and enter a +1
A112: 1 | B112: The eJAS pay point report does not include the following pay points: WC Incentives. Contractors have blanket approval from Commerce to add these to the tracker.
A113: 2 | B113: Something is wrong with the eJAS pay point, and not all pay points are showing. Contractors must receive approval from Commerce to add any of these pay points to the tracker.
C114: These would include the following pay points: IDP Create, Worksite Placement, Monthly Updates, Monthly Attendance, Unsubsidized Employment or Career Jumps.
A117: Common Reasons on why you will need to subtract from billing and add a -1
B118: The eJAS pay point report has something on it that you cannot bill for. Contractors must receive approval from Commerce to remove one of these pay points to the tracker.
C119: Reasons can include, but are not limited to, not meeting all pay point criteria or the eJAS pay point report not working correctly.
A123: Support Service and Wage Adjust
...

Sheet Office Use only
A2: Attachment Name/Number | B2: Attachment H-1
A5: Billing Months:
A6: 46204
A7: 46235
A8: 46266
A9: 46296
A10: 46327
A11: 46357
A12: 46388
A13: 46419
A14: 46447
A15: 46478
A16: 46508
A17: 46539
A19: Main Community Jobs and Career Jump Pay Points and Reimbursements
B20: Unit Price
A21: CJ Main - Plan Create | B21: 250
A22: CJ Main - Worksite Placement/Program Start | B22: 630
A23: CJ Main - Monthly Updates | B23: 475
A24: CJ Main - 2Gen Family Support Weekly Documentation | B24: 0
A25: CJ Main - Stacked Activity | B25: 190
A26: CJ Main - Monthly Attendance Reporting | B26: 190
A27: CJ Main - Part-Time Unsubsidized Employment | B27: 1000
A28: CJ Main - Full-Time Unsubsidized Employment | B28: 1000
A29: CJ Main - Career Jump Worksite Placement/Program Start | B29: 315
A31: CJ Main - Attendance and Payroll Reporting | B31: 0
A35: Main Community Works Pay Points and Reimbursements
B36: Unit Price
A37: CW - Plan Create | B37: 250
A38: CW - Worksite Placement/Program Start | B38: 630
A39: CW - Monthly Update | B39: 280
A40: CW - 2Gen Family Support Weekly Documentation | B40: 0
A41: CW - Monthly Attendance Reporting | B41: 190
A42: CW - Incentive - 30 days | B42: 200
A43: CW - Incentive - 90 days | B43: 300
A46: LEP Community Jobs and Career Jump Pay Points and Reimbursements
B47: Unit Price
A48: CJ LEP - Plan Create | B48: 250
A49: CJ LEP - Worksite Placement/Program Start | B49: 630
A50: CJ LEP - Monthly Updates | B50: 475
...

Sheet INSTRUCTIONS
A1: PROJECTIONS TAB
A3: #1 | B3: Completed cells B1 through B4 with your contract information. This information will populate throughout the billing workbook.
A16: #2 | B16: Scroll down to row 68 and locate the month that corresponds with your billing month. You will only be entering information in the two columns listed beneath this month. For example: For your July invoice you will only be entering information in columns C and D.
K25: TIP: | M25: Only enter information in the cells that look like this one. Grey/tan background with a blue border.
A60: #3 | B60: In the "ACTUAL" column - Enter the following information using the actual information for the previous month (the month you are currently billing for) •Plan Creates - Copy this number from your A-19 •Worksite Starts - Copy this number from your A-19 •Worksite Exits - You will need to review your program records to calcuate this number •Monthly Updates - Copy this number from your A-19 DO NOT ENTER INFORMATION IN THE CARRYOVER TO NEXT MONTH COLUMN - This cell will automatically populate
K62: TIP: | M62: You will repeat this step for all the programs you work in (CJ, WC and LEP)
A70: #4 | B70: In the "Projected" column - Enter the following information using your best estimate (the calendar month you are currently in) •Plan Creates - Review your program records and estimate how many plans you will create in the month you are currently in. •Worksite Starts - Review your program records and estimate how many worksite starts you will have in the month you are currently in. •Worksite Exits - Review your program records and estimate how many Participants will exit a worksite in the month you are currently in. DO NOT ENTER INFORMATION IN THE MONTHLY UPDATE OR CARRYOVER TO NEXT MONTH COLUMNS - These cells will automatically populate
K72: TIP: | M72: You will repeat this step for all the programs you work in (CJ, WC and LEP)
K78: TIP: | M78: You can run eJAS billing reports to get an idea of where you are in the current month
A82: #5 | B82: The very first time you complete this page you will need to enter your contract award amount in cell 99B for MAIN and 112B for LEP if applicable. You will also need to enter any amendments received in rows 100:105B and/or 112:118B.
A122: #6 | B122: Scroll down to row 98 and locate the month that corresponds with your billing month. You will only be entering information in the column beneath this month. For example: For your July invoice you will only be entering information in columns C/D 98. •ENTER YOUR INVOICE TOTAL (CJ + WC) •If you have a LEP budget, this total will be entered further down the sheet on row 111
M129: TIP: | O129: Only enter information in the cells that look like this one. Grey/tan background with a blue border.
A143: #7 | B143: Once you have entered all this information, scroll back up to the top of the page.
B145: Your charts now have up-to-date information that you can use to help you budget.
B147: The first chart is meant to give you an idea of if you are expecting your caseload to increase or decrease in the next month. The "projected" lined shows how many monthly updates you think you will have compared to the previous month. | I147: The next chart is meant to give you a spending target for the rest of the fiscal year based on your expenditures. The columns represent your expenditures to date. The dotted line shows where your expenditures would need to be to stay within budget and expend your entire contract. This target is meant to be a guide.
A169: Main CJ-CJump PPT Tracker, Main WC PPT Tracker, and LEP CJ-CJump PPT Tracker
A200: Common Reasons on why you will need to add to the billing and enter a +1
A201: 1 | B201: The eJAS pay point report does not include the following pay points: WC Incentives. Contractors have blanket approval from Commerce to add these to the tracker.
A202: 2 | B202: Something is wrong with the eJAS pay point, and not all pay points are showing. Contractors must receive approval from Commerce to add any of these pay points to the tracker.
C203: These would include the following pay points: IDP Create, Worksite Placement, Monthly Updates, Monthly Attendance, Unsubsidized Employment or Career Jumps.
A206: Common Reasons on why you will need to subtract from billing and add a -1
B207: The eJAS pay point report has something on it that you cannot bill for. Contractors must receive approval from Commerce to remove one of these pay points to the tracker.
C208: Reasons can include, but are not limited to, not meeting all pay point criteria or the eJAS pay point report not working correctly.
A212: Support Service and Wage Adjust
A214: Support Services
A215: Use this section to capture under or overbilled wages or support services. You must submit a TA ticket and include the ticket with your billing
A216: Support Service Adjustment
A247: Wages, Worker's Compensation, and FICA Adjustments
A318: Wage Adjust
A364: ROLL-UP TAB
A367: Do not enter anything on this tab. Enter this information on this tab in CMS.

Sheet PROJECTIONS
A1: Agency Name: | AJ1: ='Office Use only'!B2 -> Attachment H-1
A2: Contract Number:
A3: Billing Month/Year: | O3: Use Drop Down to select Billing Month/Year
A4: Date Completed:
B5: =B3 -> 0
B28: As a reminder minimum wages will likely increases on January 1, 2027. For some contractors, it may make sense to have a lower than average monthly expenditures in the first and second quarters to balance increased wages in 2027 and stay within their contract budget.
M33: MAIN Target Monthly Expenditure for Remaining Months | AH33: LEP Target Monthly Expenditure for Remaining Months
M34: =AL108 -> 0 | AH34: =AL121 -> 0
M35: Reminder: Minimum wage typically increases January 1. Contractors will want to account for this in their spending plan. It may be useful to have lower average expenditures in Quarter 1 and 2 (July – December) to help manage this Quarter 3 and 4 growth. | AH35: Reminder: Minimum wage typically increases January 1. Contractors will want to account for this in their spending plan. It may be useful to have lower average expenditures in Quarter 1 and 2 (July – December) to help manage this Quarter 3 and 4 growth.
A67: Go to Instructions Tab
C68: JULY | D68: BILLING | F68: AUGUST | G68: BILLING | I68: SEPTEMBER | J68: BILLING | L68: OCTOBER | M68: BILLING | O68: NOVEMBER | P68: BILLING | R68: DECEMBER | S68: BILLING | U68: JANUARY | V68: BILLING | X68: FEBRUARY | Y68: BILLING | AA68: MARCH | AB68: BILLING | AD68: APRIL | AE68: BILLING | AG68: MAY | AH68: BILLING | AJ68: JUNE | AK68: BILLING
C69: JULY | D69: AUGUST | F69: AUGUST | G69: SEPTEMBER | I69: SEPTEMBER | J69: OCTOBER | L69: OCTOBER | M69: NOVEMBER | O69: DECEMBER | P69: DECEMBER | R69: DECEMBER | S69: JANUARY | U69: JANUARY | V69: FEBRUARY | X69: FEBRUARY | Y69: MARCH | AA69: MARCH | AB69: APRIL | AD69: APRIL | AE69: MAY | AG69: MAY | AH69: JUNE | AJ69: JUNE
C70: ACTUAL | D70: PROJECTED | F70: ACTUAL | G70: PROJECTED | I70: ACTUAL | J70: PROJECTED | L70: ACTUAL | M70: PROJECTED | O70: ACTUAL | P70: PROJECTED | R70: ACTUAL | S70: PROJECTED | U70: ACTUAL | V70: PROJECTED | X70: ACTUAL | Y70: PROJECTED | AA70: ACTUAL | AB70: PROJECTED | AD70: ACTUAL | AE70: PROJECTED | AG70: ACTUAL | AH70: PROJECTED | AJ70: ACTUAL
B71: CJ PLAN CREATES
B72: CJ WORKSITE STARTS
B73: CJ WORKSITE EXITS
B74: CJ MONTHLY UPDATES | D74: =IF(SUM(C75+D72)=0,#N/A,SUM(C75+D72)) -> #N/A | G74: =IF(SUM(F75+G72)=0,#N/A,SUM(F75+G72)) -> #N/A | J74: =IF(SUM(I75+J72)=0,#N/A,SUM(I75+J72)) -> #N/A | M74: =IF(SUM(L75+M72)=0,#N/A,SUM(L75+M72)) -> #N/A | P74: =IF(SUM(O75+P72)=0,#N/A,SUM(O75+P72)) -> #N/A | S74: =IF(SUM(R75+S72)=0,#N/A,SUM(R75+S72)) -> #N/A | V74: =IF(SUM(U75+V72)=0,#N/A,SUM(U75+V72)) -> #N/A | Y74: =IF(SUM(X75+Y72)=0,#N/A,SUM(X75+Y72)) -> #N/A | AB74: =IF(SUM(AA75+AB72)=0,#N/A,SUM(AA75+AB72)) -> #N/A | AE74: =IF(SUM(AD75+AE72)=0,#N/A,SUM(AD75+AE72)) -> #N/A | AH74: =IF(SUM(AG75+AH72)=0,#N/A,SUM(AG75+AH72)) -> #N/A
B75: CARRYOVER TO NEXT MONTH | C75: =+C74-C73 -> 0 | D75: =+D74-D73 -> #N/A | F75: =+F74-F73 -> 0 | G75: =+G74-G73 -> #N/A | I75: =+I74-I73 -> 0 | J75: =+J74-J73 -> #N/A | L75: =+L74-L73 -> 0 | M75: =+M74-M73 -> #N/A | O75: =+O74-O73 -> 0 | P75: =+P74-P73 -> #N/A | R75: =+R74-R73 -> 0 | S75: =+S74-S73 -> #N/A | U75: =+U74-U73 -> 0 | V75: =+V74-V73 -> #N/A | X75: =+X74-X73 -> 0 | Y75: =+Y74-Y73 -> #N/A | AA75: =+AA74-AA73 -> 0 | AB75: =+AB74-AB73 -> #N/A | AD75: =+AD74-AD73 -> 0 | AE75: =+AE74-AE73 -> #N/A | AG75: =+AG74-AG73 -> 0 | AH75: =+AH74-AH73 -> #N/A | AJ75: =+AJ74-AJ73 -> 0
C77: JULY | D77: BILLING | F77: AUGUST | G77: BILLING | I77: SEPTEMBER | J77: BILLING | L77: OCTOBER | M77: BILLING | O77: NOVEMBER | P77: BILLING | R77: DECEMBER | S77: BILLING | U77: JANUARY | V77: BILLING | X77: FEBRUARY | Y77: BILLING | AA77: MARCH | AB77: BILLING | AD77: APRIL | AE77: BILLING | AG77: MAY | AH77: BILLING | AJ77: JUNE
C78: JULY | D78: AUGUST | F78: AUGUST | G78: SEPTEMBER | I78: SEPTEMBER | J78: OCTOBER | L78: OCTOBER | M78: NOVEMBER | O78: DECEMBER | P78: DECEMBER | R78: DECEMBER | S78: JANUARY | U78: JANUARY | V78: FEBRUARY | X78: FEBRUARY | Y78: MARCH | AA78: MARCH | AB78: APRIL | AD78: APRIL | AE78: MAY | AG78: MAY | AH78: JUNE | AJ78: JUNE
C79: ACTUAL | D79: PROJECTED | F79: ACTUAL | G79: PROJECTED | I79: ACTUAL | J79: PROJECTED | L79: ACTUAL | M79: PROJECTED | O79: ACTUAL | P79: PROJECTED | R79: ACTUAL | S79: PROJECTED | U79: ACTUAL | V79: PROJECTED | X79: ACTUAL | Y79: PROJECTED | AA79: ACTUAL | AB79: PROJECTED | AD79: ACTUAL | AE79: PROJECTED | AG79: ACTUAL | AH79: PROJECTED | AJ79: ACTUAL
B80: WC PLAN CREATES
B81: WC WORKSITE STARTS
B82: WC WORKSITE EXITS
B83: WC MONTHLY UPDATES | D83: =IF(SUM(C84+D81)=0,#N/A,SUM(C84+D81)) -> #N/A | G83: =IF(SUM(F84+G81)=0,#N/A,SUM(F84+G81)) -> #N/A | J83: =IF(SUM(I84+J81)=0,#N/A,SUM(I84+J81)) -> #N/A | M83: =IF(SUM(L84+M81)=0,#N/A,SUM(L84+M81)) -> #N/A | P83: =IF(SUM(O84+P81)=0,#N/A,SUM(O84+P81)) -> #N/A | S83: =IF(SUM(R84+S81)=0,#N/A,SUM(R84+S81)) -> #N/A | V83: =IF(SUM(U84+V81)=0,#N/A,SUM(U84+V81)) -> #N/A | Y83: =IF(SUM(X84+Y81)=0,#N/A,SUM(X84+Y81)) -> #N/A | AB83: =IF(SUM(AA84+AB81)=0,#N/A,SUM(AA84+AB81)) -> #N/A | AE83: =IF(SUM(AD84+AE81)=0,#N/A,SUM(AD84+AE81)) -> #N/A | AH83: =IF(SUM(AG84+AH81)=0,#N/A,SUM(AG84+AH81)) -> #N/A
B84: CARRYOVER TO NEXT MONTH | C84: =+C83-C82 -> 0 | D84: =+D83-D82 -> #N/A | F84: =+F83-F82 -> 0 | G84: =+G83-G82 -> #N/A | I84: =+I83-I82 -> 0 | J84: =+J83-J82 -> #N/A | L84: =+L83-L82 -> 0 | M84: =+M83-M82 -> #N/A | O84: =+O83-O82 -> 0 | P84: =+P83-P82 -> #N/A | R84: =+R83-R82 -> 0 | S84: =+S83-S82 -> #N/A | U84: =+U83-U82 -> 0 | V84: =+V83-V82 -> #N/A | X84: =+X83-X82 -> 0 | Y84: =+Y83-Y82 -> #N/A | AA84: =+AA83-AA82 -> 0 | AB84: =+AB83-AB82 -> #N/A | AD84: =+AD83-AD82 -> 0 | AE84: =+AE83-AE82 -> #N/A | AG84: =+AG83-AG82 -> 0 | AH84: =+AH83-AH82 -> #N/A | AJ84: =+AJ83-AJ82 -> 0
C86: JULY | D86: BILLING | F86: AUGUST | G86: BILLING | I86: SEPTEMBER | J86: BILLING | L86: OCTOBER | M86: BILLING | O86: NOVEMBER | P86: BILLING | R86: DECEMBER | S86: BILLING | U86: JANUARY | V86: BILLING | X86: FEBRUARY | Y86: BILLING | AA86: MARCH | AB86: BILLING | AD86: APRIL | AE86: BILLING | AG86: MAY | AH86: BILLING | AJ86: JUNE
C87: JULY | D87: AUGUST | F87: AUGUST | G87: SEPTEMBER | I87: SEPTEMBER | J87: OCTOBER | L87: OCTOBER | M87: NOVEMBER | O87: DECEMBER | P87: DECEMBER | R87: DECEMBER | S87: JANUARY | U87: JANUARY | V87: FEBRUARY | X87: FEBRUARY | Y87: MARCH | AA87: MARCH | AB87: APRIL | AD87: APRIL | AE87: MAY | AG87: MAY | AH87: JUNE | AJ87: JUNE
C88: ACTUAL | D88: PROJECTED | F88: ACTUAL | G88: PROJECTED | I88: ACTUAL | J88: PROJECTED | L88: ACTUAL | M88: PROJECTED | O88: ACTUAL | P88: PROJECTED | R88: ACTUAL | S88: PROJECTED | U88: ACTUAL | V88: PROJECTED | X88: ACTUAL | Y88: PROJECTED | AA88: ACTUAL | AB88: PROJECTED | AD88: ACTUAL | AE88: PROJECTED | AG88: ACTUAL | AH88: PROJECTED | AJ88: ACTUAL
B89: LEP PLAN CREATES
B90: LEP WORKSITE STARTS
B91: LEP WORKSITE EXITS
B92: LEP MONTHLY UPDATES | D92: =IF(SUM(C93+D90)=0,#N/A,SUM(C93+D90)) -> #N/A | G92: =IF(SUM(F93+G90)=0,#N/A,SUM(F93+G90)) -> #N/A | J92: =IF(SUM(I93+J90)=0,#N/A,SUM(I93+J90)) -> #N/A | M92: =IF(SUM(L93+M90)=0,#N/A,SUM(L93+M90)) -> #N/A | P92: =IF(SUM(O93+P90)=0,#N/A,SUM(O93+P90)) -> #N/A | S92: =IF(SUM(R93+S90)=0,#N/A,SUM(R93+S90)) -> #N/A | V92: =IF(SUM(U93+V90)=0,#N/A,SUM(U93+V90)) -> #N/A | Y92: =IF(SUM(X93+Y90)=0,#N/A,SUM(X93+Y90)) -> #N/A | AB92: =IF(SUM(AA93+AB90)=0,#N/A,SUM(AA93+AB90)) -> #N/A | AE92: =IF(SUM(AD93+AE90)=0,#N/A,SUM(AD93+AE90)) -> #N/A | AH92: =IF(SUM(AG93+AH90)=0,#N/A,SUM(AG93+AH90)) -> #N/A
B93: CARRYOVER TO NEXT MONTH | C93: =+C92-C91 -> 0 | D93: =+D92-D91 -> #N/A | F93: =+F92-F91 -> 0 | G93: =+G92-G91 -> #N/A | I93: =+I92-I91 -> 0 | J93: =+J92-J91 -> #N/A | L93: =+L92-L91 -> 0 | M93: =+M92-M91 -> #N/A | O93: =+O92-O91 -> 0 | P93: =+P92-P91 -> #N/A | R93: =+R92-R91 -> 0 | S93: =+S92-S91 -> #N/A | U93: =+U92-U91 -> 0 | V93: =+V92-V91 -> #N/A
C96: JULY | F96: AUGUST | I96: SEPTEMBER | L96: OCTOBER | O96: NOVEMBER | R96: DECEMBER | U96: JANUARY | X96: FEBRUARY | AA96: MARCH | AD96: APRIL | AG96: MAY | AJ96: JUNE | AL96: EXPENDED TO DATE | AM96: REMAINING BALANCE | AN96: % of Budget Remaining
A97: MAINSTREAM | B97: Contract Amount | C97: EXPENDITURES | F97: EXPENDITURES | I97: EXPENDITURES | L97: EXPENDITURES | O97: EXPENDITURES | R97: EXPENDITURES | U97: EXPENDITURES | X97: EXPENDITURES | AA97: EXPENDITURES | AD97: EXPENDITURES | AG97: EXPENDITURES | AJ97: EXPENDITURES
A98: AWARD | B98: =SUM(B99:B105) -> 0 | AL98: =SUM(C98:AK98) -> 0 | AM98: =B98-SUM(C98:AJ98) -> 0 | AN98: =+AM98/B98 -> #DIV/0!
A99: Orignal Award | AL99: =+AL98/B98 -> #DIV/0!
A100: Amendment A
A101: Amendment B
...

Sheet Projections dnu
A1: Agency Name: | N1: ='Office Use only'!B2 -> Attachment H-1
A2: Contract Number:
A3: Billing Month/Year: | G3: Use Drop Down to select Billing Month/Year
A4: Date Completed: | G4: Important note: When you update the billing month/year, it will change the shading for the months in rows 19, 27, and 36. The shading will be either grey (for actual expenses) or orange (for projected expenses). This will impact the formulas in rows 10 and 11.
B5: =B3 -> 0
A7: Go to Instructions Tab
B9: Contract Amount | C9: Actuals through current month | D9: Projected Amount | E9: YTD Actuals + Remaining Projections | F9: Remaining Balance (includes YTD Actuals and Remaining Projections)
A10: Mainstream Contract | C10: =SUM(N24+N33) -> 0 | D10: =SUM(O24+O33) -> 0 | E10: =SUM(C10+D10) -> 0 | F10: =B10-E10 -> 0
A11: LEP Contract | C11: =N43 -> 0 | D11: =O43 -> 0 | E11: =SUM(C11+D11) -> 0 | F11: =B11-E11 -> 0
B14: Grey Months: enter the actual amount that you billed during that month
B15: Orange Months: enter the projected amount you expect to bill during those months
A19: Main Community Jobs | B19: 45839 | C19: 45870 | D19: 45901 | E19: 45931 | F19: 45962 | G19: 45992 | H19: 46023 | I19: 46054 | J19: 46082 | K19: 46113 | L19: 46143 | M19: 46174 | N19: Total Actual | O19: Total Projected
B20: =B19 -> 45839 | C20: =C19 -> 45870 | D20: =D19 -> 45901 | E20: =E19 -> 45931 | F20: =F19 -> 45962 | G20: =G19 -> 45992 | H20: =H19 -> 46023 | I20: =I19 -> 46054 | ... M20: =M19 -> 46174
A21: Total Payroll (Wages/Taxes/Benefits) | N21: =SUMIF($B$19:$M$19,"<="&$B$5,B21:M21) -> 0 | O21: =SUMIF($B$19:$M$19,">"&$B$5,B21:M21) -> 0
A22: Support Services | N22: =SUMIF($B$19:$M$19,"<="&$B$5,B22:M22) -> 0 | O22: =SUMIF($B$19:$M$19,">"&$B$5,B22:M22) -> 0
A23: Pay Points | N23: =SUMIF($B$19:$M$19,"<="&$B$5,B23:M23) -> 0 | O23: =SUMIF($B$19:$M$19,">"&$B$5,B23:M23) -> 0
A24: Sub-total: | B24: =SUM(B21:B23) -> 0 | C24: =SUM(C21:C23) -> 0 | D24: =SUM(D21:D23) -> 0 | E24: =SUM(E21:E23) -> 0 | F24: =SUM(F21:F23) -> 0 | G24: =SUM(G21:G23) -> 0 | H24: =SUM(H21:H23) -> 0 | I24: =SUM(I21:I23) -> 0 | ... O24: =SUM(O21:O23) -> 0
A27: Main Community Works | B27: 45839 | C27: 45870 | D27: 45901 | E27: 45931 | F27: 45962 | G27: 45992 | H27: 46023 | I27: 46054 | J27: 46082 | K27: 46113 | L27: 46143 | M27: 46174 | N27: Total Actual | O27: Total Projected
B28: =B27 -> 45839 | C28: =C27 -> 45870 | D28: =D27 -> 45901 | E28: =E27 -> 45931 | F28: =F27 -> 45962 | G28: =G27 -> 45992 | H28: =H27 -> 46023 | I28: =I27 -> 46054 | ... M28: =M27 -> 46174
A29: Total Payroll (Wages/Taxes/Benefits) | N29: =SUMIF($B$19:$M$19,"<="&$B$5,B29:M29) -> 0 | O29: =SUMIF($B$19:$M$19,">"&$B$5,B29:M29) -> 0
A30: Support Services | N30: =SUMIF($B$19:$M$19,"<="&$B$5,B30:M30) -> 0 | O30: =SUMIF($B$19:$M$19,">"&$B$5,B30:M30) -> 0
A31: Pay Points | N31: =SUMIF($B$19:$M$19,"<="&$B$5,B31:M31) -> 0 | O31: =SUMIF($B$19:$M$19,">"&$B$5,B31:M31) -> 0
A32: Incentives | N32: =SUMIF($B$19:$M$19,"<="&$B$5,B32:M32) -> 0 | O32: =SUMIF($B$19:$M$19,">"&$B$5,B32:M32) -> 0
A33: Sub-total: | B33: =SUM(B29:B32) -> 0 | C33: =SUM(C29:C32) -> 0 | D33: =SUM(D29:D32) -> 0 | E33: =SUM(E29:E32) -> 0 | F33: =SUM(F29:F32) -> 0 | G33: =SUM(G29:G32) -> 0 | H33: =SUM(H29:H32) -> 0 | I33: =SUM(I29:I32) -> 0 | ... O33: =SUM(O29:O32) -> 0
A35: CJ + WC Totals: | B35: =+B33+B24 -> 0 | C35: =+C33+C24 -> 0 | D35: =+D33+D24 -> 0 | E35: =+E33+E24 -> 0 | F35: =+F33+F24 -> 0 | G35: =+G33+G24 -> 0 | H35: =+H33+H24 -> 0 | I35: =+I33+I24 -> 0 | ... O35: =+O33+O24 -> 0
A38: LEP Community Jobs | B38: 45839 | C38: 45870 | D38: 45901 | E38: 45931 | F38: 45962 | G38: 45992 | H38: 46023 | I38: 46054 | J38: 46082 | K38: 46113 | L38: 46143 | M38: 46174 | N38: Total Actual | O38: Total Projected
B39: =B38 -> 45839 | C39: =C38 -> 45870 | D39: =D38 -> 45901 | E39: =E38 -> 45931 | F39: =F38 -> 45962 | G39: =G38 -> 45992 | H39: =H38 -> 46023 | I39: =I38 -> 46054 | ... M39: =M38 -> 46174
A40: Total Payroll (Wages/Taxes/Benefits) | N40: =SUMIF($B$19:$M$19,"<="&$B$5,B40:M40) -> 0 | O40: =SUMIF($B$19:$M$19,">"&$B$5,B40:M40) -> 0
A41: Support Services | N41: =SUMIF($B$19:$M$19,"<="&$B$5,B41:M41) -> 0 | O41: =SUMIF($B$19:$M$19,">"&$B$5,B41:M41) -> 0
A42: Pay Points | N42: =SUMIF($B$19:$M$19,"<="&$B$5,B42:M42) -> 0 | O42: =SUMIF($B$19:$M$19,">"&$B$5,B42:M42) -> 0
A43: Sub-total: | B43: =SUM(B40:B42) -> 0 | C43: =SUM(C40:C42) -> 0 | D43: =SUM(D40:D42) -> 0 | E43: =SUM(E40:E42) -> 0 | F43: =SUM(F40:F42) -> 0 | G43: =SUM(G40:G42) -> 0 | H43: =SUM(H40:H42) -> 0 | I43: =SUM(I40:I42) -> 0 | ... O43: =SUM(O40:O42) -> 0
A46: All Programs Total: | B46: =+B43+B33+B24 -> 0 | C46: =+C43+C33+C24 -> 0 | D46: =+D43+D33+D24 -> 0 | E46: =+E43+E33+E24 -> 0 | F46: =+F43+F33+F24 -> 0 | G46: =+G43+G33+G24 -> 0 | H46: =+H43+H33+H24 -> 0 | I46: =+I43+I33+I24 -> 0 | ... O46: =+O43+O33+O24 -> 0

Sheet A-19 PPTs Reimb
A1: Agency Name: | B1: =PROJECTIONS!B1 -> 0 | N1: ='Office Use only'!B2 -> Attachment H-1
A2: Contract Number: | B2: =PROJECTIONS!B2 -> 0
A3: Billing Month/Year: | B3: =PROJECTIONS!B3 -> 0 | G3: Use Drop Down to select Billing Month/Year
A4: Date Completed: | B4: =PROJECTIONS!B4 -> 0
A6: Go to Instructions Tab
A9: Main Community Jobs and Career Jump
A10: CJ Main Contractor Code: | K10: Unit Price | L10: A-19 Total Amounts
A11: Pay Point/Reimbursement | B11: eJAS Reports and Payroll | C11: eJAS Reports and Payroll | D11: eJAS Reports and Payroll | E11: eJAS Reports and Payroll | F11: eJAS Reports and Payroll | G11: eJAS Reports and Payroll | H11: eJAS Reports and Payroll Total | I11: Tracker Total | J11: All Total
A12: CJ Main - Plan Create | H12: =SUM(B12:G12) -> 0 | I12: ='Main CJ-CJump PPT Tracker'!C11 -> 0 | J12: =SUM(H12:I12) -> 0 | K12: ='Office Use only'!B21 -> 250 | L12: =J12*K12 -> 0
A13: CJ Main - Worksite Placement/Program Start | H13: =SUM(B13:G13) -> 0 | I13: ='Main CJ-CJump PPT Tracker'!D11 -> 0 | J13: =SUM(H13:I13) -> 0 | K13: ='Office Use only'!B22 -> 630 | L13: =J13*K13 -> 0
A14: CJ Main - Monthly Updates | H14: =SUM(B14:G14) -> 0 | I14: ='Main CJ-CJump PPT Tracker'!E11 -> 0 | J14: =SUM(H14:I14) -> 0 | K14: 1-5: $4500 >5: $475 see CALC | L14: =+P14+U14 -> 0 | M14: CALC: | N14: Participant Block 1-5 | P14: =IF(J14>0,"$4500.00",0) -> 0 | Q14: + | R14: Participants >5 | T14: =MAX(0,J14-5) -> 0 | U14: =+T14*475 -> 0
A15: CJ Main - Stacked Activity | H15: =SUM(B15:G15) -> 0 | I15: ='Main CJ-CJump PPT Tracker'!F11 -> 0 | J15: =SUM(H15:I15) -> 0 | K15: ='Office Use only'!B25 -> 190 | L15: =J15*K15 -> 0
A16: CJ Main - Monthly Attendance Reporting | H16: =SUM(B16:G16) -> 0 | I16: ='Main CJ-CJump PPT Tracker'!G11 -> 0 | J16: =SUM(H16:I16) -> 0 | K16: ='Office Use only'!B26 -> 190 | L16: =J16*K16 -> 0
A17: CJ Main - Part-Time Unsubsidized Employment | H17: =SUM(B17:G17) -> 0 | I17: ='Main CJ-CJump PPT Tracker'!H11 -> 0 | J17: =SUM(H17:I17) -> 0 | K17: ='Office Use only'!B27 -> 1000 | L17: =J17*K17 -> 0
A18: CJ Main - Full-Time Unsubsidized Employment | H18: =SUM(B18:G18) -> 0 | I18: ='Main CJ-CJump PPT Tracker'!I11 -> 0 | J18: =SUM(H18:I18) -> 0 | K18: ='Office Use only'!B28 -> 1000 | L18: =J18*K18 -> 0
A19: CJ Main - Career Jump Worksite Placement | H19: =SUM(B19:G19) -> 0 | I19: ='Main CJ-CJump PPT Tracker'!J11 -> 0 | J19: =SUM(H19:I19) -> 0 | K19: ='Office Use only'!B29 -> 315 | L19: =J19*K19 -> 0
A20: CJ Main - Annual Report | H20: =SUM(B20:G20) -> 0 | I20: n/a | J20: =H20 -> 0 | K20: 2000 | L20: =J20*K20 -> 0
A21: CJ Main - Support Services (Transportation) | H21: =SUM(B21:G21) -> 0 | I21: ='Support Service and Wage Adjust'!C32 -> 0 | J21: =SUM(H21:I21) -> 0 | L21: =J21 -> 0
A22: CJ Main - Support Services (Other) | H22: =SUM(B22:G22) -> 0 | I22: ='Support Service and Wage Adjust'!C31 -> 0 | J22: =SUM(H22:I22) -> 0 | L22: =J22 -> 0
A23: CJ Main - Wages | H23: =SUM(B23:G23) -> 0 | I23: ='Support Service and Wage Adjust'!B60 -> 0 | J23: =SUM(H23:I23) -> 0 | L23: =J23 -> 0
A24: CJ Main - Worker's Compensation | H24: =SUM(B24:G24) -> 0 | I24: ='Support Service and Wage Adjust'!B61 -> 0 | J24: =SUM(H24:I24) -> 0 | L24: =J24 -> 0
A25: CJ Main - PFML (employee + employer portions) | H25: =SUM(B25:G25) -> 0 | I25: ='Support Service and Wage Adjust'!B62 -> 0 | J25: =SUM(H25:I25) -> 0 | L25: =J25 -> 0
A26: CJ Main - WA CARES (employee portion) | H26: =SUM(B26:G26) -> 0 | I26: ='Support Service and Wage Adjust'!B63 -> 0 | J26: =SUM(H26:I26) -> 0 | L26: =J26 -> 0
A27: CJ Main - FICA | H27: =SUM(B27:G27) -> 0 | I27: ='Support Service and Wage Adjust'!B64 -> 0 | J27: =SUM(H27:I27) -> 0 | L27: =J27 -> 0
A28: ADJUSTMENT | B28: Entered on tracker | I28: ='Main CJ-CJump PPT Tracker'!K11 -> 0 | J28: =I28 -> 0 | L28: ='Main CJ-CJump PPT Tracker'!K11 -> 0
K29: Total: | L29: =SUM(L12:L28) -> 0
A33: Main Community Works
A34: WC Main Contractor Code: | K34: Unit Price | L34: A-19 Total Amounts
A35: Pay Point/Reimbursement | B35: eJAS Reports and Payroll Quantity | C35: eJAS Reports and Payroll Quantity | D35: eJAS Reports and Payroll Quantity | E35: eJAS Reports and Payroll Quantity | F35: eJAS Reports and Payroll Quantity | G35: eJAS Reports and Payroll Quantity | H35: eJAS Reports and Payroll Total | I35: Tracker Total | J35: All Total
A36: WC - Plan Create | H36: =SUM(B36:G36) -> 0 | I36: ='Main WC PPT Tracker'!C10 -> 0 | J36: =SUM(H36+I36) -> 0 | K36: ='Office Use only'!B37 -> 250 | L36: =J36*K36 -> 0
A37: WC - Worksite Placement/Program Start | H37: =SUM(B37:G37) -> 0 | I37: ='Main WC PPT Tracker'!D10 -> 0 | J37: =SUM(H37+I37) -> 0 | K37: ='Office Use only'!B38 -> 630 | L37: =J37*K37 -> 0
A38: WC - Monthly Update | H38: =SUM(B38:G38) -> 0 | I38: ='Main WC PPT Tracker'!E10 -> 0 | J38: =SUM(H38+I38) -> 0 | K38: ='Office Use only'!B39 -> 280 | L38: =J38*K38 -> 0
A39: WC - Monthly Attendance Reporting | H39: =SUM(B39:G39) -> 0 | I39: ='Main WC PPT Tracker'!F10 -> 0 | J39: =SUM(H39+I39) -> 0 | K39: ='Office Use only'!B41 -> 190 | L39: =J39*K39 -> 0
A40: WC - Support Services (Transportation) | H40: =SUM(B40:G40) -> 0 | I40: ='Support Service and Wage Adjust'!F32 -> 0 | J40: =SUM(H40+I40) -> 0 | L40: =J40 -> 0
A41: WC - Support Services (Other) | H41: =SUM(B41:G41) -> 0 | I41: ='Support Service and Wage Adjust'!F31 -> 0 | J41: =SUM(H41+I41) -> 0 | L41: =J41 -> 0
A42: WC - Worker's Compensation | H42: =SUM(B42:G42) -> 0 | I42: ='Support Service and Wage Adjust'!E61 -> 0 | J42: =SUM(H42+I42) -> 0 | L42: =J42 -> 0
A43: WC - Incentive - 30 days | B43: Entered on tracker | H43: =SUM(B43:G43) -> 0 | I43: ='Main WC PPT Tracker'!G10 -> 0 | J43: =SUM(H43+I43) -> 0 | K43: ='Office Use only'!B42 -> 200 | L43: =J43*K43 -> 0
A44: WC - Incentive - 90 days | B44: Entered on tracker | H44: =SUM(B44:G44) -> 0 | I44: ='Main WC PPT Tracker'!H10 -> 0 | J44: =SUM(H44+I44) -> 0 | K44: ='Office Use only'!B43 -> 300 | L44: =J44*K44 -> 0
A45: ADJUSTMENT | B45: Entered on tracker | I45: ='Main WC PPT Tracker'!I10 -> 0 | J45: =I45 -> 0 | L45: =I45 -> 0
K46: Total: | L46: =SUM(L36:L45) -> 0
...

Sheet Main CJ-CJump PPT Tracker
A1: Agency Name: | B1: ='A-19 PPTs Reimb'!B1 -> 0 | J1: ='Office Use only'!B2 -> Attachment H-1
A2: Contract Number: | B2: ='A-19 PPTs Reimb'!B2 -> 0
A3: Billing Month/Year: | B3: ='A-19 PPTs Reimb'!B3 -> 0
A4: Date Completed: | B4: ='A-19 PPTs Reimb'!B4 -> 0
A6: Go to Instructions Tab
A9: Main Community Jobs and Career Jump Pay Point Tracker
A11: Totals: | C11: =SUM(C13:C512) -> 0 | D11: =SUM(D13:D512) -> 0 | E11: =SUM(E13:E512) -> 0 | F11: =SUM(F13:F512) -> 0 | G11: =SUM(G13:G512) -> 0 | H11: =SUM(H13:H512) -> 0 | I11: =SUM(I13:I512) -> 0 | J11: =SUM(J13:J512) -> 0 | K11: =SUM(K13:K512) -> 0
A12: JASID Number | B12: Contractor Code | C12: IDP Create | D12: IDP Program Start Date | E12: Monthly IDP Updates | F12: Stacked Activity | G12: Monthly Attendance Reporting | H12: PT UE | I12: FT UE | J12: CAREER JUMP | K12: $ ADJUSTMENT | L12: NOTES

Sheet Main WC PPT Tracker
A1: Agency Name: | B1: ='A-19 PPTs Reimb'!B1 -> 0 | G1: ='Office Use only'!B2 -> Attachment H-1
A2: Contract Number: | B2: ='A-19 PPTs Reimb'!B2 -> 0
A3: Billing Month/Year: | B3: ='A-19 PPTs Reimb'!B3 -> 0
A4: Date Completed: | B4: ='A-19 PPTs Reimb'!B4 -> 0
A6: Go to Instructions Tab
A8: Main Community Works Pay Point and Incentives Reimbursement Tracker
A10: Totals: | C10: =SUM(C12:C511) -> 0 | D10: =SUM(D12:D511) -> 0 | E10: =SUM(E12:E511) -> 0 | F10: =SUM(F12:F511) -> 0 | G10: =SUM(G12:G511) -> 0 | H10: =SUM(H12:H511) -> 0 | I10: =SUM(I12:I511) -> 0
A11: JASID Number | B11: Contractor Code | C11: Community Works Plan Create | D11: Community Works Enrollment Date | E11: Monthly Community Works Plan Updates | F11: Monthly Attendance Reporting | G11: WC Incentive 30 Days | H11: WC Incentive 90 Days | I11: $ ADJUSTMENT | J11: NOTES

Sheet LEP CJ-CJump PPT Tracker
A1: Agency Name: | B1: ='A-19 PPTs Reimb'!B1 -> 0 | J1: ='Office Use only'!B2 -> Attachment H-1
A2: Contract Number: | B2: ='A-19 PPTs Reimb'!B2 -> 0
A3: Billing Month/Year: | B3: ='A-19 PPTs Reimb'!B3 -> 0
A4: Date Completed: | B4: ='A-19 PPTs Reimb'!B4 -> 0
A6: Go to Instructions Tab
A8: LEP Community Jobs and Career Jump Pay Point Tracker
A10: Totals: | C10: =SUM(C12:C511) -> 0 | D10: =SUM(D12:D511) -> 0 | E10: =SUM(E12:E511) -> 0 | F10: =SUM(F12:F511) -> 0 | G10: =SUM(G12:G511) -> 0 | H10: =SUM(H12:H511) -> 0 | I10: =SUM(I12:I511) -> 0 | J10: =SUM(J12:J511) -> 0 | K10: =SUM(K12:K511) -> 0
A11: JASID Number | B11: Contractor Code | C11: IDP Create | D11: IDP Program Start Date | E11: Monthly IDP Updates | F11: Stacked Activity | G11: Monthly Attendance Reporting | H11: PT UE | I11: FT UE | J11: CAREER JUMP | K11: $ ADJUSTMENT | L11: NOTES

Sheet Support Service and Wage Adjust
A1: Agency Name: | B1: ='A-19 PPTs Reimb'!B1 -> 0 | J1: ='Office Use only'!B2 -> Attachment H-1
A2: Contract Number: | B2: ='A-19 PPTs Reimb'!B2 -> 0
A3: Billing Month/Year: | B3: ='A-19 PPTs Reimb'!B3 -> 0
A4: Date Completed: | B4: ='A-19 PPTs Reimb'!B4 -> 0
A6: Go to Instructions Tab
A7: Support Services Adjustments
A9: JASID Number | B9: Contractor Code | C9: Original Month/Year Billed | D9: Program | E9: Support Service Category | F9: Vendor | G9: eJAS Payment Date | H9: Original Amount Billed | I9: Corrected Amount | J9: Difference | K9: Notes
D10: CJ Main | E10: Other
D11: WC Main | E11: Transportation
D12: CJ LEP
J13: =I13-H13 -> 0
J14: =I14-H14 -> 0
J15: =I15-H15 -> 0
J16: =I16-H16 -> 0
J17: =I17-H17 -> 0
J18: =I18-H18 -> 0
J19: =I19-H19 -> 0
J20: =I20-H20 -> 0
J21: =I21-H21 -> 0
J22: =I22-H22 -> 0
J23: =I23-H23 -> 0
J24: =I24-H24 -> 0
... J28: =I28-H28 -> 0
B30: CJ Main Support Service Adjustments | E30: WC Main Support Service Adjustments | H30: CJ LEP Support Service Adjustments
B31: Other | C31: =SUMIFS(J13:J28,D13:D28,"CJ Main",E13:E28,"Other") -> 0 | E31: Other | F31: =SUMIFS(J13:J28,D13:D28,"WC Main",E13:E28,"Other") -> 0 | H31: Other | I31: =SUMIFS(J13:J28,D13:D28,"CJ LEP",E13:E28,"Other") -> 0
B32: Transportation | C32: =SUMIFS(J13:J28,D13:D28,"CJ Main",E13:E28,"Transportation") -> 0 | E32: Transportation | F32: =SUMIFS(J13:J28,D13:D28,"WC Main",E13:E28,"Transportation") -> 0 | H32: Transportation | I32: =SUMIFS(J13:J28,D13:D28,"CJ LEP",E13:E28,"Transportation") -> 0
A35: Wages, Worker's Compensation, and FICA Adjustments
A37: JASID Number | B37: Contractor Code | C37: Original Month/Year Billed | D37: Program | E37: Payroll Category | F37: Original Amount Billed | G37: Corrected Amount | H37: Difference | I37: Notes
D38: CJ Main | E38: Wages
D39: WC Main | E39: Worker's Compensation
D40: CJ LEP | E40: PFML
E41: WA CARES
E42: FICA
H43: =G43-F43 -> 0
H44: =G44-F44 -> 0
H45: =G45-F45 -> 0
H46: =G46-F46 -> 0
H47: =G47-F47 -> 0
H48: =G48-F48 -> 0
H49: =G49-F49 -> 0
...

Sheet Roll-up
D1: ='Office Use only'!B2 -> Attachment H-1
A2: Agency Name: | B2: =PROJECTIONS!B1 -> 0
A3: Contract Number: | B3: =PROJECTIONS!B2 -> 0
A4: Billing Month/Year: | B4: =PROJECTIONS!B3 -> 0
A5: Date Completed: | B5: =PROJECTIONS!B4 -> 0
A8: Main Community Jobs and Career Jump
B9: Total Number Billed | C9: Unit Price | D9: A-19 Total Amounts
A10: CJ Main - Plan Create | B10: ='A-19 PPTs Reimb'!J12 -> 0 | C10: ='Office Use only'!B21 -> 250 | D10: =B10*C10 -> 0
A11: CJ Main - Worksite Placement/Program Start | B11: ='A-19 PPTs Reimb'!J13 -> 0 | C11: ='Office Use only'!B22 -> 630 | D11: =B11*C11 -> 0
A12: CJ Main - Monthly Updates | B12: ='A-19 PPTs Reimb'!J14 -> 0 | C12: 1-5: $4500 >5: $475 | D12: ='A-19 PPTs Reimb'!L14 -> 0
A13: CJ Main - Stacked Activity | B13: ='A-19 PPTs Reimb'!J15 -> 0 | C13: ='Office Use only'!B25 -> 190 | D13: =B13*C13 -> 0
A14: CJ Main - Monthly Attendance Reporting | B14: ='A-19 PPTs Reimb'!J16 -> 0 | C14: ='Office Use only'!B26 -> 190 | D14: =B14*C14 -> 0
A15: CJ Main - Part-Time Unsubsidized Employment | B15: ='A-19 PPTs Reimb'!J17 -> 0 | C15: ='Office Use only'!B27 -> 1000 | D15: =B15*C15 -> 0
A16: CJ Main - Full-Time Unsubsidized Employment | B16: ='A-19 PPTs Reimb'!J18 -> 0 | C16: ='Office Use only'!B28 -> 1000 | D16: =B16*C16 -> 0
A17: CJ Main - Career Jump Worksite Placement | B17: ='A-19 PPTs Reimb'!J19 -> 0 | C17: ='Office Use only'!B29 -> 315 | D17: =B17*C17 -> 0
A18: CJ Main - Annual Report | B18: ='A-19 PPTs Reimb'!J20 -> 0 | C18: 2000 | D18: =B18*C18 -> 0
A19: CJ Main - Support Services (Transportation) | B19: ='A-19 PPTs Reimb'!J21 -> 0 | D19: =B19 -> 0
A20: CJ Main - Support Services (Other) | B20: ='A-19 PPTs Reimb'!J22 -> 0 | D20: =B20 -> 0
A21: CJ Main - Wages | B21: ='A-19 PPTs Reimb'!J23 -> 0 | D21: =B21 -> 0
A22: CJ Main - Worker's Compensation | B22: ='A-19 PPTs Reimb'!J24 -> 0 | D22: =B22 -> 0
A23: CJ Main - PFML (employee + employer portions) | B23: ='A-19 PPTs Reimb'!J25 -> 0 | D23: =B23 -> 0
A24: CJ Main - WA CARES (employee portion) | B24: ='A-19 PPTs Reimb'!J26 -> 0 | D24: =B24 -> 0
A25: CJ Main - FICA | B25: ='A-19 PPTs Reimb'!J27 -> 0 | D25: =B25 -> 0
A26: ADJUSTMENT | D26: ='A-19 PPTs Reimb'!L28 -> 0
C27: Total: | D27: =SUM(D10:D26) -> 0
A31: Main Community Works
B32: Total Number Billed | C32: Unit Price | D32: A-19 Total Amounts
A33: WC - Plan Create | B33: ='A-19 PPTs Reimb'!J36 -> 0 | C33: ='Office Use only'!B37 -> 250 | D33: =B33*C33 -> 0
A34: WC - Worksite Placement/Program Start | B34: ='A-19 PPTs Reimb'!J37 -> 0 | C34: ='Office Use only'!B38 -> 630 | D34: =B34*C34 -> 0
A35: WC - Monthly Update | B35: ='A-19 PPTs Reimb'!J38 -> 0 | C35: ='Office Use only'!B39 -> 280 | D35: =B35*C35 -> 0
A36: WC - Monthly Attendance Reporting | B36: ='A-19 PPTs Reimb'!J39 -> 0 | C36: ='Office Use only'!B41 -> 190 | D36: =B36*C36 -> 0
A37: WC - Support Services (Transportation) | B37: ='A-19 PPTs Reimb'!J40 -> 0 | D37: =B37 -> 0
A38: WC - Support Services (Other) | B38: ='A-19 PPTs Reimb'!J41 -> 0 | D38: =B38 -> 0
A39: WC - Worker's Compensation | B39: ='A-19 PPTs Reimb'!J42 -> 0 | D39: =B39 -> 0
A40: WC - Incentive - 30 days | B40: ='A-19 PPTs Reimb'!J43 -> 0 | C40: ='Office Use only'!B42 -> 200 | D40: =B40*C40 -> 0
A41: WC - Incentive - 90 days | B41: ='A-19 PPTs Reimb'!J44 -> 0 | C41: ='Office Use only'!B43 -> 300 | D41: =B41*C41 -> 0
A42: ADJUSTMENT | D42: ='A-19 PPTs Reimb'!L45 -> 0
C43: Total: | D43: =SUM(D33:D42) -> 0
A46: LEP Community Jobs and Career Jump
B47: Total Number Billed | C47: Unit Price | D47: A-19 Total Amounts
...
